BEGIN:VCALENDAR
VERSION:2.0
PRODID:-//Colorado Race Timing - ECPv6.15.20//NONSGML v1.0//EN
CALSCALE:GREGORIAN
METHOD:PUBLISH
X-WR-CALNAME:Colorado Race Timing
X-ORIGINAL-URL:https://coloradoracetiming.com
X-WR-CALDESC:Events for Colorado Race Timing
REFRESH-INTERVAL;VALUE=DURATION:PT1H
X-Robots-Tag:noindex
X-PUBLISHED-TTL:PT1H
BEGIN:VTIMEZONE
TZID:America/Denver
BEGIN:DAYLIGHT
TZOFFSETFROM:-0700
TZOFFSETTO:-0600
TZNAME:MDT
DTSTART:20240310T090000
END:DAYLIGHT
BEGIN:STANDARD
TZOFFSETFROM:-0600
TZOFFSETTO:-0700
TZNAME:MST
DTSTART:20241103T080000
END:STANDARD
BEGIN:DAYLIGHT
TZOFFSETFROM:-0700
TZOFFSETTO:-0600
TZNAME:MDT
DTSTART:20250309T090000
END:DAYLIGHT
BEGIN:STANDARD
TZOFFSETFROM:-0600
TZOFFSETTO:-0700
TZNAME:MST
DTSTART:20251102T080000
END:STANDARD
BEGIN:DAYLIGHT
TZOFFSETFROM:-0700
TZOFFSETTO:-0600
TZNAME:MDT
DTSTART:20260308T090000
END:DAYLIGHT
BEGIN:STANDARD
TZOFFSETFROM:-0600
TZOFFSETTO:-0700
TZNAME:MST
DTSTART:20261101T080000
END:STANDARD
END:VTIMEZONE
BEGIN:VEVENT
DTSTART;TZID=America/Denver:20251004T080000
DTEND;TZID=America/Denver:20251004T170000
DTSTAMP:20260423T163851
CREATED:20240523T160249Z
LAST-MODIFIED:20250602T145012Z
UID:10009-1759564800-1759597200@coloradoracetiming.com
SUMMARY:Mead Stampede XC
DESCRIPTION:
URL:https://coloradoracetiming.com/event/mead-stampede-xc/
END:VEVENT
BEGIN:VEVENT
DTSTART;TZID=America/Denver:20251005T080000
DTEND;TZID=America/Denver:20251005T170000
DTSTAMP:20260423T163851
CREATED:20240415T183512Z
LAST-MODIFIED:20250521T181823Z
UID:9973-1759651200-1759683600@coloradoracetiming.com
SUMMARY:Liberty Energy 5K
DESCRIPTION:
URL:https://coloradoracetiming.com/event/liberty-energy-5k/
END:VEVENT
BEGIN:VEVENT
DTSTART;TZID=America/Denver:20251006T080000
DTEND;TZID=America/Denver:20251006T170000
DTSTAMP:20260423T163851
CREATED:20230525T142720Z
LAST-MODIFIED:20250814T144407Z
UID:7990-1759737600-1759770000@coloradoracetiming.com
SUMMARY:DPS Middle School - All City Stadium
DESCRIPTION:
URL:https://coloradoracetiming.com/event/dps-middle-school-harvard-gulch-park/
END:VEVENT
BEGIN:VEVENT
DTSTART;TZID=America/Denver:20251009T080000
DTEND;TZID=America/Denver:20251009T170000
DTSTAMP:20260423T163851
CREATED:20230908T185412Z
LAST-MODIFIED:20250806T154849Z
UID:8300-1759996800-1760029200@coloradoracetiming.com
SUMMARY:Centennial League XC
DESCRIPTION:
URL:https://coloradoracetiming.com/event/centennial-league-xc-2/
END:VEVENT
BEGIN:VEVENT
DTSTART;TZID=America/Denver:20251015T080000
DTEND;TZID=America/Denver:20251015T170000
DTSTAMP:20260423T163851
CREATED:20220822T171520Z
LAST-MODIFIED:20250815T142930Z
UID:6486-1760515200-1760547600@coloradoracetiming.com
SUMMARY:JeffCo League XC
DESCRIPTION:
URL:https://coloradoracetiming.com/event/jeffco-league-xc-2/
END:VEVENT
BEGIN:VEVENT
DTSTART;TZID=America/Denver:20251015T080000
DTEND;TZID=America/Denver:20251015T170000
DTSTAMP:20260423T163851
CREATED:20241003T042709Z
LAST-MODIFIED:20250717T213431Z
UID:10074-1760515200-1760547600@coloradoracetiming.com
SUMMARY:JeffCo League Championship - Middle School
DESCRIPTION:
URL:https://coloradoracetiming.com/event/jeffco-league-championship-middle-school/
END:VEVENT
BEGIN:VEVENT
DTSTART;TZID=America/Denver:20251021T080000
DTEND;TZID=America/Denver:20251021T170000
DTSTAMP:20260423T163851
CREATED:20251013T145000Z
LAST-MODIFIED:20251013T145000Z
UID:10537-1761033600-1761066000@coloradoracetiming.com
SUMMARY:XC - Academy Charter School
DESCRIPTION:
URL:https://coloradoracetiming.com/event/xc-academy-charter-school/
END:VEVENT
BEGIN:VEVENT
DTSTART;TZID=America/Denver:20251024T080000
DTEND;TZID=America/Denver:20251024T170000
DTSTAMP:20260423T163851
CREATED:20240930T170341Z
LAST-MODIFIED:20250310T152152Z
UID:10072-1761292800-1761325200@coloradoracetiming.com
SUMMARY:4A Region 1
DESCRIPTION:
URL:https://coloradoracetiming.com/event/4a-region-1/
END:VEVENT
BEGIN:VEVENT
DTSTART;TZID=America/Denver:20251025T080000
DTEND;TZID=America/Denver:20251025T170000
DTSTAMP:20260423T163851
CREATED:20230222T180932Z
LAST-MODIFIED:20250123T155239Z
UID:7739-1761379200-1761411600@coloradoracetiming.com
SUMMARY:Trick or Trot 5K
DESCRIPTION:
URL:https://coloradoracetiming.com/event/trick-or-trot-5k/
END:VEVENT
END:VCALENDAR