BEGIN:VCALENDAR
VERSION:2.0
PRODID:-//Colorado Race Timing - ECPv6.15.20//NONSGML v1.0//EN
CALSCALE:GREGORIAN
METHOD:PUBLISH
X-ORIGINAL-URL:https://coloradoracetiming.com
X-WR-CALDESC:Events for Colorado Race Timing
REFRESH-INTERVAL;VALUE=DURATION:PT1H
X-Robots-Tag:noindex
X-PUBLISHED-TTL:PT1H
BEGIN:VTIMEZONE
TZID:America/Denver
BEGIN:DAYLIGHT
TZOFFSETFROM:-0700
TZOFFSETTO:-0600
TZNAME:MDT
DTSTART:20230312T090000
END:DAYLIGHT
BEGIN:STANDARD
TZOFFSETFROM:-0600
TZOFFSETTO:-0700
TZNAME:MST
DTSTART:20231105T080000
END:STANDARD
BEGIN:DAYLIGHT
TZOFFSETFROM:-0700
TZOFFSETTO:-0600
TZNAME:MDT
DTSTART:20240310T090000
END:DAYLIGHT
BEGIN:STANDARD
TZOFFSETFROM:-0600
TZOFFSETTO:-0700
TZNAME:MST
DTSTART:20241103T080000
END:STANDARD
BEGIN:DAYLIGHT
TZOFFSETFROM:-0700
TZOFFSETTO:-0600
TZNAME:MDT
DTSTART:20250309T090000
END:DAYLIGHT
BEGIN:STANDARD
TZOFFSETFROM:-0600
TZOFFSETTO:-0700
TZNAME:MST
DTSTART:20251102T080000
END:STANDARD
END:VTIMEZONE
BEGIN:VEVENT
DTSTART;TZID=America/Denver:20240810T080000
DTEND;TZID=America/Denver:20240810T170000
DTSTAMP:20260424T174253
CREATED:20230809T173151Z
LAST-MODIFIED:20240801T183131Z
UID:8221-1723276800-1723309200@coloradoracetiming.com
SUMMARY:IHC Scott Ultimate Sports Day 5K
DESCRIPTION:
URL:https://coloradoracetiming.com/event/ihc-scott-ultimate-sports-day-5k/
END:VEVENT
BEGIN:VEVENT
DTSTART;TZID=America/Denver:20240811T080000
DTEND;TZID=America/Denver:20240811T170000
DTSTAMP:20260424T174253
CREATED:20240801T183044Z
LAST-MODIFIED:20240801T183044Z
UID:10050-1723363200-1723395600@coloradoracetiming.com
SUMMARY:Average Joes 5K
DESCRIPTION:
URL:https://coloradoracetiming.com/event/average-joes-5k/
END:VEVENT
BEGIN:VEVENT
DTSTART;TZID=America/Denver:20240824T080000
DTEND;TZID=America/Denver:20240824T170000
DTSTAMP:20260424T174253
CREATED:20220209T220409Z
LAST-MODIFIED:20250204T101231Z
UID:5104-1724486400-1724518800@coloradoracetiming.com
SUMMARY:Winter Park Half Marathon
DESCRIPTION:For an in-depth look at TradeFT’s trading tools\, check out the review on EonReviews .
URL:https://coloradoracetiming.com/event/winter-park-half-marathon-2/
END:VEVENT
END:VCALENDAR