BEGIN:VCALENDAR
VERSION:2.0
PRODID:-//Colorado Race Timing - ECPv6.15.20//NONSGML v1.0//EN
CALSCALE:GREGORIAN
METHOD:PUBLISH
X-WR-CALNAME:Colorado Race Timing
X-ORIGINAL-URL:https://coloradoracetiming.com
X-WR-CALDESC:Events for Colorado Race Timing
REFRESH-INTERVAL;VALUE=DURATION:PT1H
X-Robots-Tag:noindex
X-PUBLISHED-TTL:PT1H
BEGIN:VTIMEZONE
TZID:America/Denver
BEGIN:DAYLIGHT
TZOFFSETFROM:-0700
TZOFFSETTO:-0600
TZNAME:MDT
DTSTART:20230312T090000
END:DAYLIGHT
BEGIN:STANDARD
TZOFFSETFROM:-0600
TZOFFSETTO:-0700
TZNAME:MST
DTSTART:20231105T080000
END:STANDARD
BEGIN:DAYLIGHT
TZOFFSETFROM:-0700
TZOFFSETTO:-0600
TZNAME:MDT
DTSTART:20240310T090000
END:DAYLIGHT
BEGIN:STANDARD
TZOFFSETFROM:-0600
TZOFFSETTO:-0700
TZNAME:MST
DTSTART:20241103T080000
END:STANDARD
BEGIN:DAYLIGHT
TZOFFSETFROM:-0700
TZOFFSETTO:-0600
TZNAME:MDT
DTSTART:20250309T090000
END:DAYLIGHT
BEGIN:STANDARD
TZOFFSETFROM:-0600
TZOFFSETTO:-0700
TZNAME:MST
DTSTART:20251102T080000
END:STANDARD
BEGIN:DAYLIGHT
TZOFFSETFROM:-0700
TZOFFSETTO:-0600
TZNAME:MDT
DTSTART:20260308T090000
END:DAYLIGHT
BEGIN:STANDARD
TZOFFSETFROM:-0600
TZOFFSETTO:-0700
TZNAME:MST
DTSTART:20261101T080000
END:STANDARD
END:VTIMEZONE
BEGIN:VEVENT
DTSTART;TZID=America/Denver:20250927T080000
DTEND;TZID=America/Denver:20250927T170000
DTSTAMP:20260423T164430
CREATED:20250723T162401Z
LAST-MODIFIED:20250723T162401Z
UID:10516-1758960000-1758992400@coloradoracetiming.com
SUMMARY:Mustang Stampede 5K
DESCRIPTION:
URL:https://coloradoracetiming.com/event/mustang-stampede-5k/
END:VEVENT
BEGIN:VEVENT
DTSTART;TZID=America/Denver:20250926T140000
DTEND;TZID=America/Denver:20250926T170000
DTSTAMP:20260423T164430
CREATED:20220606T205338Z
LAST-MODIFIED:20250721T215024Z
UID:5741-1758895200-1758906000@coloradoracetiming.com
SUMMARY:Dave Sanders XC
DESCRIPTION:
URL:https://coloradoracetiming.com/event/dave-sanders-xc-2/
END:VEVENT
BEGIN:VEVENT
DTSTART;TZID=America/Denver:20250920T090000
DTEND;TZID=America/Denver:20250920T110000
DTSTAMP:20260423T164430
CREATED:20220124T175656Z
LAST-MODIFIED:20250107T160233Z
UID:5062-1758358800-1758366000@coloradoracetiming.com
SUMMARY:Move Forward 10K & 5K
DESCRIPTION:
URL:https://coloradoracetiming.com/event/move-forward-10k-5k/
END:VEVENT
BEGIN:VEVENT
DTSTART;TZID=America/Denver:20250919T080000
DTEND;TZID=America/Denver:20250919T170000
DTSTAMP:20260423T164430
CREATED:20220606T205121Z
LAST-MODIFIED:20250502T200726Z
UID:5737-1758268800-1758301200@coloradoracetiming.com
SUMMARY:Arvada West XC
DESCRIPTION:
URL:https://coloradoracetiming.com/event/arvada-west-xc/
END:VEVENT
BEGIN:VEVENT
DTSTART;TZID=America/Denver:20250914T080000
DTEND;TZID=America/Denver:20250914T170000
DTSTAMP:20260423T164430
CREATED:20220627T184942Z
LAST-MODIFIED:20250521T181631Z
UID:5962-1757836800-1757869200@coloradoracetiming.com
SUMMARY:BackCountry 5K
DESCRIPTION:https://runsignup.com/Race/CO/HighlandsRanch/BackcountryCommunity5k
URL:https://coloradoracetiming.com/event/backcountry-5k-2/
END:VEVENT
BEGIN:VEVENT
DTSTART;TZID=America/Denver:20250913T080000
DTEND;TZID=America/Denver:20250913T170000
DTSTAMP:20260423T164430
CREATED:20220519T205209Z
LAST-MODIFIED:20260203T210209Z
UID:5491-1757750400-1757782800@coloradoracetiming.com
SUMMARY:Tiger Prowl 5K
DESCRIPTION:
URL:https://coloradoracetiming.com/event/tiger-prowl-5k/
END:VEVENT
BEGIN:VEVENT
DTSTART;TZID=America/Denver:20250907T080000
DTEND;TZID=America/Denver:20250907T170000
DTSTAMP:20260423T164430
CREATED:20220813T221253Z
LAST-MODIFIED:20250707T220742Z
UID:6405-1757232000-1757264400@coloradoracetiming.com
SUMMARY:Flyin Lion 5K
DESCRIPTION:
URL:https://coloradoracetiming.com/event/flyin-lion-5k-2/
END:VEVENT
BEGIN:VEVENT
DTSTART;TZID=America/Denver:20250906T080000
DTEND;TZID=America/Denver:20250906T170000
DTSTAMP:20260423T164430
CREATED:20240815T184737Z
LAST-MODIFIED:20250623T155153Z
UID:10057-1757145600-1757178000@coloradoracetiming.com
SUMMARY:Champions for Children 5K
DESCRIPTION:
URL:https://coloradoracetiming.com/event/champions-for-children-5k/
END:VEVENT
BEGIN:VEVENT
DTSTART;TZID=America/Denver:20250829T170000
DTEND;TZID=America/Denver:20250829T220000
DTSTAMP:20260423T164430
CREATED:20220425T160407Z
LAST-MODIFIED:20250707T221143Z
UID:5295-1756486800-1756504800@coloradoracetiming.com
SUMMARY:D'Evelyn Dash XC
DESCRIPTION:
URL:https://coloradoracetiming.com/event/develyn-dash-xc-2/
END:VEVENT
BEGIN:VEVENT
DTSTART;TZID=America/Denver:20250829T080000
DTEND;TZID=America/Denver:20250829T170000
DTSTAMP:20260423T164430
CREATED:20230720T200216Z
LAST-MODIFIED:20250424T160136Z
UID:8165-1756454400-1756486800@coloradoracetiming.com
SUMMARY:Widefield XC
DESCRIPTION:
URL:https://coloradoracetiming.com/event/widefield-xc/
END:VEVENT
BEGIN:VEVENT
DTSTART;TZID=America/Denver:20250828T150000
DTEND;TZID=America/Denver:20250828T170000
DTSTAMP:20260423T164430
CREATED:20240517T214145Z
LAST-MODIFIED:20250609T163011Z
UID:9999-1756393200-1756400400@coloradoracetiming.com
SUMMARY:Valley MS XC
DESCRIPTION:Tube V offers you a chance to watch HQ porn videos tubev.sex sex clips full of spectacular action with the most amazing girls ever.
URL:https://coloradoracetiming.com/event/valley-ms-xc/
END:VEVENT
BEGIN:VEVENT
DTSTART;TZID=America/Denver:20250822T080000
DTEND;TZID=America/Denver:20250822T170000
DTSTAMP:20260423T164430
CREATED:20240624T185513Z
LAST-MODIFIED:20250602T184232Z
UID:10028-1755849600-1755882000@coloradoracetiming.com
SUMMARY:Fraser Valley Invite XC
DESCRIPTION:
URL:https://coloradoracetiming.com/event/fraser-valley-invite-xc/
END:VEVENT
BEGIN:VEVENT
DTSTART;TZID=America/Denver:20250821T080000
DTEND;TZID=America/Denver:20250821T170000
DTSTAMP:20260423T164430
CREATED:20220803T224648Z
LAST-MODIFIED:20250425T173632Z
UID:6306-1755763200-1755795600@coloradoracetiming.com
SUMMARY:Aurora City Championships
DESCRIPTION:
URL:https://coloradoracetiming.com/event/aurora-city-championships/
END:VEVENT
BEGIN:VEVENT
DTSTART;TZID=America/Denver:20250816T080000
DTEND;TZID=America/Denver:20250816T100000
DTSTAMP:20260423T164430
CREATED:20220713T181851Z
LAST-MODIFIED:20250502T201348Z
UID:6071-1755331200-1755338400@coloradoracetiming.com
SUMMARY:Thunder Ridge XC
DESCRIPTION:
URL:https://coloradoracetiming.com/event/thunder-ridge-xc/
END:VEVENT
BEGIN:VEVENT
DTSTART;TZID=America/Denver:20250812T080000
DTEND;TZID=America/Denver:20250812T170000
DTSTAMP:20260423T164430
CREATED:20240528T164617Z
LAST-MODIFIED:20250731T222153Z
UID:10012-1754985600-1755018000@coloradoracetiming.com
SUMMARY:Chap 3200M
DESCRIPTION:
URL:https://coloradoracetiming.com/event/chap-3200m/
END:VEVENT
BEGIN:VEVENT
DTSTART;TZID=America/Denver:20250802T080000
DTEND;TZID=America/Denver:20250802T170000
DTSTAMP:20260423T164430
CREATED:20220222T174545Z
LAST-MODIFIED:20250415T145708Z
UID:5137-1754121600-1754154000@coloradoracetiming.com
SUMMARY:Freedom Fest
DESCRIPTION:
URL:https://coloradoracetiming.com/event/freedom-4-miler/
END:VEVENT
BEGIN:VEVENT
DTSTART;TZID=America/Denver:20250726T173000
DTEND;TZID=America/Denver:20250726T220000
DTSTAMP:20260423T164430
CREATED:20220413T212757Z
LAST-MODIFIED:20250122T181444Z
UID:5245-1753551000-1753567200@coloradoracetiming.com
SUMMARY:Denver CF Climb
DESCRIPTION:
URL:https://coloradoracetiming.com/event/denver-cf-climb-2022/
END:VEVENT
BEGIN:VEVENT
DTSTART;TZID=America/Denver:20250628T190000
DTEND;TZID=America/Denver:20250628T233000
DTSTAMP:20260423T164430
CREATED:20240227T023811Z
LAST-MODIFIED:20250116T152108Z
UID:9952-1751137200-1751153400@coloradoracetiming.com
SUMMARY:GigiFit Flow Run/Walk 5K
DESCRIPTION:
URL:https://coloradoracetiming.com/event/gigifit-flow-run-walk-5k/
END:VEVENT
BEGIN:VEVENT
DTSTART;TZID=America/Denver:20250622T080000
DTEND;TZID=America/Denver:20250622T170000
DTSTAMP:20260423T164430
CREATED:20250227T181341Z
LAST-MODIFIED:20250227T181341Z
UID:10395-1750579200-1750611600@coloradoracetiming.com
SUMMARY:5K to Fight Histio
DESCRIPTION:
URL:https://coloradoracetiming.com/event/5k-to-fight-histio/
END:VEVENT
BEGIN:VEVENT
DTSTART;TZID=America/Denver:20250608T080000
DTEND;TZID=America/Denver:20250608T170000
DTSTAMP:20260423T164430
CREATED:20250328T163047Z
LAST-MODIFIED:20250328T163047Z
UID:10406-1749369600-1749402000@coloradoracetiming.com
SUMMARY:Walk to END Epilepsy
DESCRIPTION:
URL:https://coloradoracetiming.com/event/walk-to-end-epilepsy/
END:VEVENT
BEGIN:VEVENT
DTSTART;TZID=America/Denver:20250531T080000
DTEND;TZID=America/Denver:20250531T170000
DTSTAMP:20260423T164430
CREATED:20250123T185604Z
LAST-MODIFIED:20250123T185604Z
UID:10110-1748678400-1748710800@coloradoracetiming.com
SUMMARY:Angelman Syndrome Foundation 5K
DESCRIPTION:
URL:https://coloradoracetiming.com/event/angelman-syndrome-foundation-5k/
END:VEVENT
BEGIN:VEVENT
DTSTART;TZID=America/Denver:20250514T080000
DTEND;TZID=America/Denver:20250514T170000
DTSTAMP:20260423T164430
CREATED:20250212T161308Z
LAST-MODIFIED:20250212T161308Z
UID:10152-1747209600-1747242000@coloradoracetiming.com
SUMMARY:Conference Event
DESCRIPTION:
URL:https://coloradoracetiming.com/event/conference-event/
END:VEVENT
BEGIN:VEVENT
DTSTART;TZID=America/Denver:20241025T080000
DTEND;TZID=America/Denver:20241025T170000
DTSTAMP:20260423T164430
CREATED:20241003T042834Z
LAST-MODIFIED:20241007T141058Z
UID:10076-1729843200-1729875600@coloradoracetiming.com
SUMMARY:3A Regionals
DESCRIPTION:
URL:https://coloradoracetiming.com/event/3a-regionals/
END:VEVENT
BEGIN:VEVENT
DTSTART;TZID=America/Denver:20241024T080000
DTEND;TZID=America/Denver:20241024T170000
DTSTAMP:20260423T164430
CREATED:20240507T182751Z
LAST-MODIFIED:20240507T182751Z
UID:9994-1729756800-1729789200@coloradoracetiming.com
SUMMARY:Region 1&2 XC
DESCRIPTION:
URL:https://coloradoracetiming.com/event/region-12-xc/
END:VEVENT
BEGIN:VEVENT
DTSTART;TZID=America/Denver:20241018T080000
DTEND;TZID=America/Denver:20241018T170000
DTSTAMP:20260423T164430
CREATED:20240819T191428Z
LAST-MODIFIED:20240819T191428Z
UID:10062-1729238400-1729270800@coloradoracetiming.com
SUMMARY:Nutrien's 1st Annual United Way Day 5K
DESCRIPTION:
URL:https://coloradoracetiming.com/event/nutriens-1st-annual-united-way-day-5k/
END:VEVENT
BEGIN:VEVENT
DTSTART;TZID=America/Denver:20241017T080000
DTEND;TZID=America/Denver:20241017T170000
DTSTAMP:20260423T164430
CREATED:20240606T174217Z
LAST-MODIFIED:20240606T174217Z
UID:10019-1729152000-1729184400@coloradoracetiming.com
SUMMARY:Rocky Mountain League Championships
DESCRIPTION:
URL:https://coloradoracetiming.com/event/rocky-mountain-league-championships/
END:VEVENT
BEGIN:VEVENT
DTSTART;TZID=America/Denver:20241012T080000
DTEND;TZID=America/Denver:20241012T170000
DTSTAMP:20260423T164430
CREATED:20230322T162519Z
LAST-MODIFIED:20240723T190431Z
UID:7826-1728720000-1728752400@coloradoracetiming.com
SUMMARY:Harvest Fest 5K
DESCRIPTION:
URL:https://coloradoracetiming.com/event/harvest-fest-5k/
END:VEVENT
BEGIN:VEVENT
DTSTART;TZID=America/Denver:20241010T080000
DTEND;TZID=America/Denver:20241010T170000
DTSTAMP:20260423T164430
CREATED:20240918T022311Z
LAST-MODIFIED:20240918T022311Z
UID:10069-1728547200-1728579600@coloradoracetiming.com
SUMMARY:MSAL Championships
DESCRIPTION:
URL:https://coloradoracetiming.com/event/msal-championships/
END:VEVENT
BEGIN:VEVENT
DTSTART;TZID=America/Denver:20241004T080000
DTEND;TZID=America/Denver:20241004T170000
DTSTAMP:20260423T164430
CREATED:20240111T155216Z
LAST-MODIFIED:20240111T155308Z
UID:8578-1728028800-1728061200@coloradoracetiming.com
SUMMARY:Pat Amato XC
DESCRIPTION:
URL:https://coloradoracetiming.com/event/pat-amato-xc-2/
END:VEVENT
BEGIN:VEVENT
DTSTART;TZID=America/Denver:20241004T080000
DTEND;TZID=America/Denver:20241004T110000
DTSTAMP:20260423T164430
CREATED:20220125T192531Z
LAST-MODIFIED:20240801T181457Z
UID:5065-1728028800-1728039600@coloradoracetiming.com
SUMMARY:D'Evelyn Dash 5K
DESCRIPTION:
URL:https://coloradoracetiming.com/event/develyn-dash-5k/
END:VEVENT
END:VCALENDAR