BEGIN:VCALENDAR
VERSION:2.0
PRODID:-//Colorado Race Timing - ECPv6.15.20//NONSGML v1.0//EN
CALSCALE:GREGORIAN
METHOD:PUBLISH
X-WR-CALNAME:Colorado Race Timing
X-ORIGINAL-URL:https://coloradoracetiming.com
X-WR-CALDESC:Events for Colorado Race Timing
REFRESH-INTERVAL;VALUE=DURATION:PT1H
X-Robots-Tag:noindex
X-PUBLISHED-TTL:PT1H
BEGIN:VTIMEZONE
TZID:America/Denver
BEGIN:DAYLIGHT
TZOFFSETFROM:-0700
TZOFFSETTO:-0600
TZNAME:MDT
DTSTART:20200308T090000
END:DAYLIGHT
BEGIN:STANDARD
TZOFFSETFROM:-0600
TZOFFSETTO:-0700
TZNAME:MST
DTSTART:20201101T080000
END:STANDARD
BEGIN:DAYLIGHT
TZOFFSETFROM:-0700
TZOFFSETTO:-0600
TZNAME:MDT
DTSTART:20210314T090000
END:DAYLIGHT
BEGIN:STANDARD
TZOFFSETFROM:-0600
TZOFFSETTO:-0700
TZNAME:MST
DTSTART:20211107T080000
END:STANDARD
BEGIN:DAYLIGHT
TZOFFSETFROM:-0700
TZOFFSETTO:-0600
TZNAME:MDT
DTSTART:20220313T090000
END:DAYLIGHT
BEGIN:STANDARD
TZOFFSETFROM:-0600
TZOFFSETTO:-0700
TZNAME:MST
DTSTART:20221106T080000
END:STANDARD
END:VTIMEZONE
BEGIN:VEVENT
DTSTART;TZID=America/Denver:20210321T100000
DTEND;TZID=America/Denver:20210321T120000
DTSTAMP:20260424T100333
CREATED:20210120T213039Z
LAST-MODIFIED:20210120T213039Z
UID:4305-1616320800-1616328000@coloradoracetiming.com
SUMMARY:Beaver Creek Snowshoe Race #3
DESCRIPTION:
URL:https://coloradoracetiming.com/event/beaver-creek-snowshoe-race-3/
END:VEVENT
BEGIN:VEVENT
DTSTART;TZID=America/Denver:20210228T100000
DTEND;TZID=America/Denver:20210228T120000
DTSTAMP:20260424T100333
CREATED:20210120T212950Z
LAST-MODIFIED:20210120T212950Z
UID:4303-1614506400-1614513600@coloradoracetiming.com
SUMMARY:Beaver Creek Snowshoe Race #2
DESCRIPTION:
URL:https://coloradoracetiming.com/event/beaver-creek-snowshoe-race-2/
END:VEVENT
BEGIN:VEVENT
DTSTART;TZID=America/Denver:20210124T100000
DTEND;TZID=America/Denver:20210124T120000
DTSTAMP:20260424T100333
CREATED:20210120T201450Z
LAST-MODIFIED:20210120T201450Z
UID:4291-1611482400-1611489600@coloradoracetiming.com
SUMMARY:Beaver Creek Snowshoe Race #1
DESCRIPTION:
URL:https://coloradoracetiming.com/event/beaver-creek-snowshoe-race-1/
END:VEVENT
END:VCALENDAR