BEGIN:VCALENDAR
VERSION:2.0
PRODID:-//Colorado Race Timing - ECPv6.15.20//NONSGML v1.0//EN
CALSCALE:GREGORIAN
METHOD:PUBLISH
X-WR-CALNAME:Colorado Race Timing
X-ORIGINAL-URL:https://coloradoracetiming.com
X-WR-CALDESC:Events for Colorado Race Timing
REFRESH-INTERVAL;VALUE=DURATION:PT1H
X-Robots-Tag:noindex
X-PUBLISHED-TTL:PT1H
BEGIN:VTIMEZONE
TZID:America/Denver
BEGIN:DAYLIGHT
TZOFFSETFROM:-0700
TZOFFSETTO:-0600
TZNAME:MDT
DTSTART:20200308T090000
END:DAYLIGHT
BEGIN:STANDARD
TZOFFSETFROM:-0600
TZOFFSETTO:-0700
TZNAME:MST
DTSTART:20201101T080000
END:STANDARD
BEGIN:DAYLIGHT
TZOFFSETFROM:-0700
TZOFFSETTO:-0600
TZNAME:MDT
DTSTART:20210314T090000
END:DAYLIGHT
BEGIN:STANDARD
TZOFFSETFROM:-0600
TZOFFSETTO:-0700
TZNAME:MST
DTSTART:20211107T080000
END:STANDARD
BEGIN:DAYLIGHT
TZOFFSETFROM:-0700
TZOFFSETTO:-0600
TZNAME:MDT
DTSTART:20220313T090000
END:DAYLIGHT
BEGIN:STANDARD
TZOFFSETFROM:-0600
TZOFFSETTO:-0700
TZNAME:MST
DTSTART:20221106T080000
END:STANDARD
BEGIN:DAYLIGHT
TZOFFSETFROM:-0700
TZOFFSETTO:-0600
TZNAME:MDT
DTSTART:20230312T090000
END:DAYLIGHT
BEGIN:STANDARD
TZOFFSETFROM:-0600
TZOFFSETTO:-0700
TZNAME:MST
DTSTART:20231105T080000
END:STANDARD
BEGIN:DAYLIGHT
TZOFFSETFROM:-0700
TZOFFSETTO:-0600
TZNAME:MDT
DTSTART:20240310T090000
END:DAYLIGHT
BEGIN:STANDARD
TZOFFSETFROM:-0600
TZOFFSETTO:-0700
TZNAME:MST
DTSTART:20241103T080000
END:STANDARD
END:VTIMEZONE
BEGIN:VEVENT
DTSTART;TZID=America/Denver:20230604T080000
DTEND;TZID=America/Denver:20230604T170000
DTSTAMP:20260424T082909
CREATED:20230214T223351Z
LAST-MODIFIED:20230418T150244Z
UID:7717-1685865600-1685898000@coloradoracetiming.com
SUMMARY:Superhero Race 5K
DESCRIPTION:
URL:https://coloradoracetiming.com/event/5k-childrens-hospital/
END:VEVENT
BEGIN:VEVENT
DTSTART;TZID=America/Denver:20230603T080000
DTEND;TZID=America/Denver:20230603T110000
DTSTAMP:20260424T082909
CREATED:20220317T190148Z
LAST-MODIFIED:20230113T214700Z
UID:5188-1685779200-1685790000@coloradoracetiming.com
SUMMARY:Reach for Recovery 5K
DESCRIPTION:
URL:https://coloradoracetiming.com/event/reach-for-recovery-5k-2/
END:VEVENT
BEGIN:VEVENT
DTSTART;TZID=America/Denver:20230516T080000
DTEND;TZID=America/Denver:20230516T170000
DTSTAMP:20260424T082909
CREATED:20230316T180048Z
LAST-MODIFIED:20230424T174430Z
UID:7807-1684224000-1684256400@coloradoracetiming.com
SUMMARY:Excel Academy
DESCRIPTION:
URL:https://coloradoracetiming.com/event/excel-academy/
END:VEVENT
BEGIN:VEVENT
DTSTART;TZID=America/Denver:20221022T080000
DTEND;TZID=America/Denver:20221022T170000
DTSTAMP:20260424T082909
CREATED:20220914T152412Z
LAST-MODIFIED:20220914T152412Z
UID:6739-1666425600-1666458000@coloradoracetiming.com
SUMMARY:Regionals 5A 2
DESCRIPTION:
URL:https://coloradoracetiming.com/event/regionals-5a-2/
END:VEVENT
BEGIN:VEVENT
DTSTART;TZID=America/Denver:20221020T080000
DTEND;TZID=America/Denver:20221020T170000
DTSTAMP:20260424T082909
CREATED:20220928T202813Z
LAST-MODIFIED:20220928T202813Z
UID:6879-1666252800-1666285200@coloradoracetiming.com
SUMMARY:Colorado Region 3 4A
DESCRIPTION:
URL:https://coloradoracetiming.com/event/colorado-region-3-4a/
END:VEVENT
BEGIN:VEVENT
DTSTART;TZID=America/Denver:20221020T080000
DTEND;TZID=America/Denver:20221020T170000
DTSTAMP:20260424T082909
CREATED:20220425T165141Z
LAST-MODIFIED:20221003T173522Z
UID:5300-1666252800-1666285200@coloradoracetiming.com
SUMMARY:Colorado Region 2 5A
DESCRIPTION:
URL:https://coloradoracetiming.com/event/centennial-league-xc/
END:VEVENT
BEGIN:VEVENT
DTSTART;TZID=America/Denver:20221012T080000
DTEND;TZID=America/Denver:20221012T170000
DTSTAMP:20260424T082909
CREATED:20220419T205629Z
LAST-MODIFIED:20220419T205629Z
UID:5258-1665561600-1665594000@coloradoracetiming.com
SUMMARY:DPL League Meet
DESCRIPTION:
URL:https://coloradoracetiming.com/event/dpl-league-meet/
END:VEVENT
BEGIN:VEVENT
DTSTART;TZID=America/Denver:20220925T080000
DTEND;TZID=America/Denver:20220925T170000
DTSTAMP:20260424T082909
CREATED:20220518T202334Z
LAST-MODIFIED:20220518T202356Z
UID:5479-1664092800-1664125200@coloradoracetiming.com
SUMMARY:Jamie Beck Family Foundation 5k
DESCRIPTION:
URL:https://coloradoracetiming.com/event/jamie-beck-family-foundation-5k/
END:VEVENT
BEGIN:VEVENT
DTSTART;TZID=America/Denver:20220902T143000
DTEND;TZID=America/Denver:20220902T170000
DTSTAMP:20260424T082909
CREATED:20220328T144307Z
LAST-MODIFIED:20250219T071409Z
UID:5207-1662129000-1662138000@coloradoracetiming.com
SUMMARY:Arapahoe Warrior Invite XC
DESCRIPTION:Ниска цена за батерии. Тягови батерии България купете с доставка до всеки регион.
URL:https://coloradoracetiming.com/event/arapahoe-warrior-invite-xc/
END:VEVENT
BEGIN:VEVENT
DTSTART;TZID=America/Denver:20220828T080000
DTEND;TZID=America/Denver:20220828T170000
DTSTAMP:20260424T082909
CREATED:20220218T184235Z
LAST-MODIFIED:20220218T184235Z
UID:5126-1661673600-1661706000@coloradoracetiming.com
SUMMARY:PH in the Park 5K
DESCRIPTION:
URL:https://coloradoracetiming.com/event/ph-in-the-park-5k/
END:VEVENT
BEGIN:VEVENT
DTSTART;TZID=America/Denver:20220806T080000
DTEND;TZID=America/Denver:20220806T110000
DTSTAMP:20260424T082909
CREATED:20220329T214336Z
LAST-MODIFIED:20220329T214336Z
UID:5220-1659772800-1659783600@coloradoracetiming.com
SUMMARY:RexRun for PAWSitivity
DESCRIPTION:
URL:https://coloradoracetiming.com/event/rexrun-for-pawsitivity/
END:VEVENT
BEGIN:VEVENT
DTSTART;TZID=America/Denver:20220717T080000
DTEND;TZID=America/Denver:20220717T120000
DTSTAMP:20260424T082909
CREATED:20220106T165353Z
LAST-MODIFIED:20220106T165353Z
UID:5002-1658044800-1658059200@coloradoracetiming.com
SUMMARY:Black Hawk Trail Half Marathon
DESCRIPTION:
URL:https://coloradoracetiming.com/event/black-hawk-trail-half-marathon/
END:VEVENT
BEGIN:VEVENT
DTSTART;TZID=America/Denver:20220605T080000
DTEND;TZID=America/Denver:20220605T170000
DTSTAMP:20260424T082909
CREATED:20220527T195715Z
LAST-MODIFIED:20220527T195715Z
UID:5609-1654416000-1654448400@coloradoracetiming.com
SUMMARY:Drennen's Drowning Prevention 5K Run/Walk
DESCRIPTION:
URL:https://coloradoracetiming.com/event/drennens-drowning-prevention-5k-run-walk/
END:VEVENT
BEGIN:VEVENT
DTSTART;TZID=America/Denver:20220605T080000
DTEND;TZID=America/Denver:20220605T110000
DTSTAMP:20260424T082909
CREATED:20220215T203542Z
LAST-MODIFIED:20220215T203542Z
UID:5119-1654416000-1654426800@coloradoracetiming.com
SUMMARY:Vitality 5k Walk & Run
DESCRIPTION:
URL:https://coloradoracetiming.com/event/vitality-5k-walk-run/
END:VEVENT
BEGIN:VEVENT
DTSTART;TZID=America/Denver:20220501T080000
DTEND;TZID=America/Denver:20220501T100000
DTSTAMP:20260424T082909
CREATED:20220314T171833Z
LAST-MODIFIED:20220314T171833Z
UID:5179-1651392000-1651399200@coloradoracetiming.com
SUMMARY:Fairmount 5000
DESCRIPTION:
URL:https://coloradoracetiming.com/event/fairmount-5000/
END:VEVENT
BEGIN:VEVENT
DTSTART;TZID=America/Denver:20220313T080000
DTEND;TZID=America/Denver:20220313T170000
DTSTAMP:20260424T082909
CREATED:20211208T221923Z
LAST-MODIFIED:20211208T221923Z
UID:4923-1647158400-1647190800@coloradoracetiming.com
SUMMARY:Beaver Creek Snowshoe Race
DESCRIPTION:
URL:https://coloradoracetiming.com/event/beaver-creek-snowshoe-race-5/
END:VEVENT
BEGIN:VEVENT
DTSTART;TZID=America/Denver:20220220T080000
DTEND;TZID=America/Denver:20220220T170000
DTSTAMP:20260424T082909
CREATED:20211208T221904Z
LAST-MODIFIED:20211208T221904Z
UID:4921-1645344000-1645376400@coloradoracetiming.com
SUMMARY:Beaver Creek Snowshoe Race
DESCRIPTION:
URL:https://coloradoracetiming.com/event/beaver-creek-snowshoe-race-4/
END:VEVENT
BEGIN:VEVENT
DTSTART;TZID=America/Denver:20220116T080000
DTEND;TZID=America/Denver:20220116T170000
DTSTAMP:20260424T082909
CREATED:20211208T221839Z
LAST-MODIFIED:20211208T221839Z
UID:4919-1642320000-1642352400@coloradoracetiming.com
SUMMARY:Beaver Creek Snowshoe Race
DESCRIPTION:
URL:https://coloradoracetiming.com/event/beaver-creek-snowshoe-race/
END:VEVENT
BEGIN:VEVENT
DTSTART;TZID=America/Denver:20211211T080000
DTEND;TZID=America/Denver:20211211T170000
DTSTAMP:20260424T082909
CREATED:20210806T175211Z
LAST-MODIFIED:20250121T104303Z
UID:4710-1639209600-1639242000@coloradoracetiming.com
SUMMARY:Jingle Bell 5K
DESCRIPTION:https://seopaslaugos.com/117-seo-optimizavimas/ SEO optimizavimas\, reklamos internete paslaugos\, pardavimų skatinimas
URL:https://coloradoracetiming.com/event/jingle-bell-5k/
END:VEVENT
BEGIN:VEVENT
DTSTART;TZID=America/Denver:20211114T080000
DTEND;TZID=America/Denver:20211114T170000
DTSTAMP:20260424T082909
CREATED:20210809T163919Z
LAST-MODIFIED:20210809T163919Z
UID:4723-1636876800-1636909200@coloradoracetiming.com
SUMMARY:Girls on the Run 5K
DESCRIPTION:
URL:https://coloradoracetiming.com/event/girls-on-the-run-5k/
END:VEVENT
BEGIN:VEVENT
DTSTART;TZID=America/Denver:20211113T080000
DTEND;TZID=America/Denver:20211113T120000
DTSTAMP:20260424T082909
CREATED:20211004T150401Z
LAST-MODIFIED:20211004T150401Z
UID:4824-1636790400-1636804800@coloradoracetiming.com
SUMMARY:Denver Veterans Day 5K
DESCRIPTION:
URL:https://coloradoracetiming.com/event/denver-veterans-day-5k/
END:VEVENT
BEGIN:VEVENT
DTSTART;TZID=America/Denver:20211107T080000
DTEND;TZID=America/Denver:20211107T170000
DTSTAMP:20260424T082909
CREATED:20210617T204540Z
LAST-MODIFIED:20210617T204540Z
UID:4585-1636272000-1636304400@coloradoracetiming.com
SUMMARY:3W Races 5k
DESCRIPTION:
URL:https://coloradoracetiming.com/event/3w-races-5k-2/
END:VEVENT
BEGIN:VEVENT
DTSTART;TZID=America/Denver:20211106T080000
DTEND;TZID=America/Denver:20211106T170000
DTSTAMP:20260424T082909
CREATED:20210617T204514Z
LAST-MODIFIED:20210617T204514Z
UID:4583-1636185600-1636218000@coloradoracetiming.com
SUMMARY:3W Races 5K
DESCRIPTION:
URL:https://coloradoracetiming.com/event/3w-races-5k/
END:VEVENT
BEGIN:VEVENT
DTSTART;TZID=America/Denver:20211106T080000
DTEND;TZID=America/Denver:20211106T100000
DTSTAMP:20260424T082909
CREATED:20210927T200519Z
LAST-MODIFIED:20210927T200519Z
UID:4818-1636185600-1636192800@coloradoracetiming.com
SUMMARY:City Park 5K
DESCRIPTION:/
URL:https://coloradoracetiming.com/event/city-park-5k/
END:VEVENT
BEGIN:VEVENT
DTSTART;TZID=America/Denver:20211022T080000
DTEND;TZID=America/Denver:20211022T170000
DTSTAMP:20260424T082909
CREATED:20210629T193520Z
LAST-MODIFIED:20210826T151017Z
UID:4624-1634889600-1634922000@coloradoracetiming.com
SUMMARY:Colorado 4A Region 3 Cross
DESCRIPTION:
URL:https://coloradoracetiming.com/event/regional-xc-meet/
END:VEVENT
BEGIN:VEVENT
DTSTART;TZID=America/Denver:20211021T110000
DTEND;TZID=America/Denver:20211021T170000
DTSTAMP:20260424T082909
CREATED:20210803T153907Z
LAST-MODIFIED:20210803T153907Z
UID:4692-1634814000-1634835600@coloradoracetiming.com
SUMMARY:Region 2 XC
DESCRIPTION:
URL:https://coloradoracetiming.com/event/region-2-xc/
END:VEVENT
BEGIN:VEVENT
DTSTART;TZID=America/Denver:20211015T170000
DTEND;TZID=America/Denver:20211015T210000
DTSTAMP:20260424T082909
CREATED:20210907T143833Z
LAST-MODIFIED:20210907T143833Z
UID:4789-1634317200-1634331600@coloradoracetiming.com
SUMMARY:Hyland Hills Jag Jog 5K
DESCRIPTION:
URL:https://coloradoracetiming.com/event/hyland-hills-jag-jog-5k/
END:VEVENT
BEGIN:VEVENT
DTSTART;TZID=America/Denver:20211012T080000
DTEND;TZID=America/Denver:20211012T170000
DTSTAMP:20260424T082909
CREATED:20210629T193320Z
LAST-MODIFIED:20250129T104916Z
UID:4622-1634025600-1634058000@coloradoracetiming.com
SUMMARY:DPS League XC Meet
DESCRIPTION:Estsolar Saulės parkai ir elektrinės
URL:https://coloradoracetiming.com/event/dps-league-xc-meet/
END:VEVENT
BEGIN:VEVENT
DTSTART;TZID=America/Denver:20211009T080000
DTEND;TZID=America/Denver:20211009T110000
DTSTAMP:20260424T082909
CREATED:20210517T215640Z
LAST-MODIFIED:20210517T215640Z
UID:4518-1633766400-1633777200@coloradoracetiming.com
SUMMARY:Gaylord Rockies Events
DESCRIPTION:
URL:https://coloradoracetiming.com/event/gaylord-rockies-events/
END:VEVENT
BEGIN:VEVENT
DTSTART;TZID=America/Denver:20211008T080000
DTEND;TZID=America/Denver:20211008T170000
DTSTAMP:20260424T082909
CREATED:20210806T180535Z
LAST-MODIFIED:20210816T181451Z
UID:4720-1633680000-1633712400@coloradoracetiming.com
SUMMARY:DPS Middle School Meet - Bear Valley Park
DESCRIPTION:
URL:https://coloradoracetiming.com/event/dps-middle-school-meet-bear-valley-park/
END:VEVENT
END:VCALENDAR