BEGIN:VCALENDAR
VERSION:2.0
PRODID:-//Colorado Race Timing - ECPv6.15.20//NONSGML v1.0//EN
CALSCALE:GREGORIAN
METHOD:PUBLISH
X-WR-CALNAME:Colorado Race Timing
X-ORIGINAL-URL:https://coloradoracetiming.com
X-WR-CALDESC:Events for Colorado Race Timing
REFRESH-INTERVAL;VALUE=DURATION:PT1H
X-Robots-Tag:noindex
X-PUBLISHED-TTL:PT1H
BEGIN:VTIMEZONE
TZID:America/Denver
BEGIN:DAYLIGHT
TZOFFSETFROM:-0700
TZOFFSETTO:-0600
TZNAME:MDT
DTSTART:20250309T090000
END:DAYLIGHT
BEGIN:STANDARD
TZOFFSETFROM:-0600
TZOFFSETTO:-0700
TZNAME:MST
DTSTART:20251102T080000
END:STANDARD
BEGIN:DAYLIGHT
TZOFFSETFROM:-0700
TZOFFSETTO:-0600
TZNAME:MDT
DTSTART:20260308T090000
END:DAYLIGHT
BEGIN:STANDARD
TZOFFSETFROM:-0600
TZOFFSETTO:-0700
TZNAME:MST
DTSTART:20261101T080000
END:STANDARD
BEGIN:DAYLIGHT
TZOFFSETFROM:-0700
TZOFFSETTO:-0600
TZNAME:MDT
DTSTART:20270314T090000
END:DAYLIGHT
BEGIN:STANDARD
TZOFFSETFROM:-0600
TZOFFSETTO:-0700
TZNAME:MST
DTSTART:20271107T080000
END:STANDARD
END:VTIMEZONE
BEGIN:VEVENT
DTSTART;TZID=America/Denver:20260704T080000
DTEND;TZID=America/Denver:20260704T100000
DTSTAMP:20260423T132752
CREATED:20220105T222005Z
LAST-MODIFIED:20260114T153243Z
UID:4979-1783152000-1783159200@coloradoracetiming.com
SUMMARY:Independence Day 5K
DESCRIPTION:
URL:https://coloradoracetiming.com/event/independence-day-5k-2/
END:VEVENT
BEGIN:VEVENT
DTSTART;TZID=America/Denver:20260704T080000
DTEND;TZID=America/Denver:20260704T110000
DTSTAMP:20260423T132753
CREATED:20220126T175427Z
LAST-MODIFIED:20260114T153313Z
UID:5068-1783152000-1783162800@coloradoracetiming.com
SUMMARY:Palmer Lake Fourth of July Run
DESCRIPTION:
URL:https://coloradoracetiming.com/event/palmer-lake-fourth-of-july-run/
END:VEVENT
BEGIN:VEVENT
DTSTART;TZID=America/Denver:20260711T080000
DTEND;TZID=America/Denver:20260711T120000
DTSTAMP:20260423T132753
CREATED:20220105T221524Z
LAST-MODIFIED:20260116T221849Z
UID:4969-1783756800-1783771200@coloradoracetiming.com
SUMMARY:Stepping Stone 5K
DESCRIPTION:
URL:https://coloradoracetiming.com/event/stepping-stone-5k-2/
END:VEVENT
BEGIN:VEVENT
DTSTART;TZID=America/Denver:20260711T080000
DTEND;TZID=America/Denver:20260711T170000
DTSTAMP:20260423T132753
CREATED:20260116T220457Z
LAST-MODIFIED:20260116T220457Z
UID:10545-1783756800-1783789200@coloradoracetiming.com
SUMMARY:Rita Run
DESCRIPTION:
URL:https://coloradoracetiming.com/event/rita-run/
END:VEVENT
BEGIN:VEVENT
DTSTART;TZID=America/Denver:20260718T080000
DTEND;TZID=America/Denver:20260718T170000
DTSTAMP:20260423T132753
CREATED:20220105T221719Z
LAST-MODIFIED:20260205T162447Z
UID:4975-1784361600-1784394000@coloradoracetiming.com
SUMMARY:Heritage Eagles 5K
DESCRIPTION:www.heritageeagles5k.com
URL:https://coloradoracetiming.com/event/heritage-eagles-5k-2/
END:VEVENT
BEGIN:VEVENT
DTSTART;TZID=America/Denver:20260725T080000
DTEND;TZID=America/Denver:20260725T170000
DTSTAMP:20260423T132753
CREATED:20220107T172004Z
LAST-MODIFIED:20260202T194019Z
UID:5021-1784966400-1784998800@coloradoracetiming.com
SUMMARY:Aspen Valley Marathon
DESCRIPTION:
URL:https://coloradoracetiming.com/event/aspen-valley-marathon-2/
END:VEVENT
BEGIN:VEVENT
DTSTART;TZID=America/Denver:20260726T080000
DTEND;TZID=America/Denver:20260726T120000
DTSTAMP:20260423T132753
CREATED:20220110T191841Z
LAST-MODIFIED:20260114T154422Z
UID:5030-1785052800-1785067200@coloradoracetiming.com
SUMMARY:Spirit of the West 5K
DESCRIPTION:https://runsignup.com/Race/CO/Golden/SpiritoftheWest5K
URL:https://coloradoracetiming.com/event/spirit-of-the-west-5k-2/
END:VEVENT
BEGIN:VEVENT
DTSTART;TZID=America/Denver:20260801T080000
DTEND;TZID=America/Denver:20260801T110000
DTSTAMP:20260423T132753
CREATED:20220505T220640Z
LAST-MODIFIED:20260114T160119Z
UID:5374-1785571200-1785582000@coloradoracetiming.com
SUMMARY:Run for Ring 5K
DESCRIPTION:
URL:https://coloradoracetiming.com/event/run-for-ring-5k/
END:VEVENT
BEGIN:VEVENT
DTSTART;TZID=America/Denver:20260808T080000
DTEND;TZID=America/Denver:20260808T170000
DTSTAMP:20260423T132753
CREATED:20220708T222009Z
LAST-MODIFIED:20260211T151007Z
UID:6050-1786176000-1786208400@coloradoracetiming.com
SUMMARY:Arapahoe Warrior 5K
DESCRIPTION:www.warrior5k.com
URL:https://coloradoracetiming.com/event/arapahoe-warrior-5k-2/
END:VEVENT
BEGIN:VEVENT
DTSTART;TZID=America/Denver:20260816T080000
DTEND;TZID=America/Denver:20260816T170000
DTSTAMP:20260423T132753
CREATED:20220411T183558Z
LAST-MODIFIED:20260114T160809Z
UID:5240-1786867200-1786899600@coloradoracetiming.com
SUMMARY:Race for Research 5K
DESCRIPTION:
URL:https://coloradoracetiming.com/event/race-for-research-5k/
END:VEVENT
BEGIN:VEVENT
DTSTART;TZID=America/Denver:20260821T080000
DTEND;TZID=America/Denver:20260821T170000
DTSTAMP:20260423T132753
CREATED:20220523T152335Z
LAST-MODIFIED:20260310T180739Z
UID:5524-1787299200-1787331600@coloradoracetiming.com
SUMMARY:Jack N Jill XC
DESCRIPTION:
URL:https://coloradoracetiming.com/event/jack-n-jill-xc-2/
END:VEVENT
BEGIN:VEVENT
DTSTART;TZID=America/Denver:20260822T080000
DTEND;TZID=America/Denver:20260822T170000
DTSTAMP:20260423T132753
CREATED:20240111T153430Z
LAST-MODIFIED:20260126T202410Z
UID:8574-1787385600-1787418000@coloradoracetiming.com
SUMMARY:The Ram Run 5K
DESCRIPTION:
URL:https://coloradoracetiming.com/event/the-ram-run-5k/
END:VEVENT
BEGIN:VEVENT
DTSTART;TZID=America/Denver:20260822T080000
DTEND;TZID=America/Denver:20260822T170000
DTSTAMP:20260423T132753
CREATED:20240111T155400Z
LAST-MODIFIED:20260414T194906Z
UID:8580-1787385600-1787418000@coloradoracetiming.com
SUMMARY:Denver South Wash Park Invite
DESCRIPTION:
URL:https://coloradoracetiming.com/event/denver-south-wash-park-invite/
END:VEVENT
BEGIN:VEVENT
DTSTART;TZID=America/Denver:20260829T080000
DTEND;TZID=America/Denver:20260829T110000
DTSTAMP:20260423T132753
CREATED:20210512T215842Z
LAST-MODIFIED:20260114T154451Z
UID:4498-1787990400-1788001200@coloradoracetiming.com
SUMMARY:Pancake Stampede 5K
DESCRIPTION:
URL:https://coloradoracetiming.com/event/pancake-stampede-5k/
END:VEVENT
BEGIN:VEVENT
DTSTART;TZID=America/Denver:20260829T080000
DTEND;TZID=America/Denver:20260829T170000
DTSTAMP:20260423T132753
CREATED:20230510T152822Z
LAST-MODIFIED:20260114T161025Z
UID:7944-1787990400-1788022800@coloradoracetiming.com
SUMMARY:Rocky Mountain Run 5K
DESCRIPTION:
URL:https://coloradoracetiming.com/event/colorado-springs-5k/
END:VEVENT
BEGIN:VEVENT
DTSTART;TZID=America/Denver:20260829T080000
DTEND;TZID=America/Denver:20260829T170000
DTSTAMP:20260423T132753
CREATED:20240118T190730Z
LAST-MODIFIED:20260216T193342Z
UID:8609-1787990400-1788022800@coloradoracetiming.com
SUMMARY:Town of Elizabeth 5K
DESCRIPTION:
URL:https://coloradoracetiming.com/event/town-of-elizabeth-5k/
END:VEVENT
BEGIN:VEVENT
DTSTART;TZID=America/Denver:20260830T080000
DTEND;TZID=America/Denver:20260830T110000
DTSTAMP:20260423T132753
CREATED:20210512T215814Z
LAST-MODIFIED:20260114T154523Z
UID:4496-1788076800-1788087600@coloradoracetiming.com
SUMMARY:Bluffs 8K Trail Run
DESCRIPTION:
URL:https://coloradoracetiming.com/event/bluffs-8-k-trail-run/
END:VEVENT
BEGIN:VEVENT
DTSTART;TZID=America/Denver:20260902T080000
DTEND;TZID=America/Denver:20260902T170000
DTSTAMP:20260423T132753
CREATED:20250107T162318Z
LAST-MODIFIED:20260114T155713Z
UID:10087-1788336000-1788368400@coloradoracetiming.com
SUMMARY:Lakewood Trail Race 1
DESCRIPTION:
URL:https://coloradoracetiming.com/event/lakewood-trail-race-1/
END:VEVENT
BEGIN:VEVENT
DTSTART;TZID=America/Denver:20260905T080000
DTEND;TZID=America/Denver:20260905T170000
DTSTAMP:20260423T132753
CREATED:20220207T221515Z
LAST-MODIFIED:20260205T162422Z
UID:5098-1788595200-1788627600@coloradoracetiming.com
SUMMARY:Liberty Bell Invite
DESCRIPTION:
URL:https://coloradoracetiming.com/event/liberty-bell-invite/
END:VEVENT
BEGIN:VEVENT
DTSTART;TZID=America/Denver:20260909T150000
DTEND;TZID=America/Denver:20260909T170000
DTSTAMP:20260423T132753
CREATED:20220419T205520Z
LAST-MODIFIED:20260414T194933Z
UID:5254-1788966000-1788973200@coloradoracetiming.com
SUMMARY:Denver West Cowboy XC
DESCRIPTION:
URL:https://coloradoracetiming.com/event/denver-west-cowboy-xc/
END:VEVENT
BEGIN:VEVENT
DTSTART;TZID=America/Denver:20260909T180000
DTEND;TZID=America/Denver:20260909T200000
DTSTAMP:20260423T132753
CREATED:20220106T170823Z
LAST-MODIFIED:20260114T155744Z
UID:5008-1788976800-1788984000@coloradoracetiming.com
SUMMARY:Lakewood Trail Race 2
DESCRIPTION:
URL:https://coloradoracetiming.com/event/lakewood-trail-race-2/
END:VEVENT
BEGIN:VEVENT
DTSTART;TZID=America/Denver:20260911T080000
DTEND;TZID=America/Denver:20260911T170000
DTSTAMP:20260423T132753
CREATED:20230405T193313Z
LAST-MODIFIED:20260205T162333Z
UID:7851-1789113600-1789146000@coloradoracetiming.com
SUMMARY:Warrior Invite XC
DESCRIPTION:
URL:https://coloradoracetiming.com/event/warrior-invite-xc/
END:VEVENT
BEGIN:VEVENT
DTSTART;TZID=America/Denver:20260912T080000
DTEND;TZID=America/Denver:20260912T110000
DTSTAMP:20260423T132753
CREATED:20220713T221600Z
LAST-MODIFIED:20260216T204412Z
UID:6075-1789200000-1789210800@coloradoracetiming.com
SUMMARY:Selian 5K
DESCRIPTION:
URL:https://coloradoracetiming.com/event/selian-5k/
END:VEVENT
BEGIN:VEVENT
DTSTART;TZID=America/Denver:20260916T180000
DTEND;TZID=America/Denver:20260916T200000
DTSTAMP:20260423T132753
CREATED:20220106T170916Z
LAST-MODIFIED:20260114T155817Z
UID:5010-1789581600-1789588800@coloradoracetiming.com
SUMMARY:Lakewood Trail Race 3
DESCRIPTION:
URL:https://coloradoracetiming.com/event/lakewood-trail-race-3/
END:VEVENT
BEGIN:VEVENT
DTSTART;TZID=America/Denver:20260917T150000
DTEND;TZID=America/Denver:20260917T170000
DTSTAMP:20260423T132753
CREATED:20220606T204121Z
LAST-MODIFIED:20260414T195139Z
UID:5726-1789657200-1789664400@coloradoracetiming.com
SUMMARY:McAuliffe Sundevil Invite
DESCRIPTION:
URL:https://coloradoracetiming.com/event/mcauliffe-sundevil-invite/
END:VEVENT
BEGIN:VEVENT
DTSTART;TZID=America/Denver:20260919T080000
DTEND;TZID=America/Denver:20260919T170000
DTSTAMP:20260423T132753
CREATED:20220419T205556Z
LAST-MODIFIED:20260414T194952Z
UID:5256-1789804800-1789837200@coloradoracetiming.com
SUMMARY:Northfield Nighthawks XC
DESCRIPTION:
URL:https://coloradoracetiming.com/event/northfield-nighthawks-xc/
END:VEVENT
BEGIN:VEVENT
DTSTART;TZID=America/Denver:20260919T080000
DTEND;TZID=America/Denver:20260919T170000
DTSTAMP:20260423T132753
CREATED:20220720T211655Z
LAST-MODIFIED:20260114T154612Z
UID:6166-1789804800-1789837200@coloradoracetiming.com
SUMMARY:Miles for Madison 5K
DESCRIPTION:
URL:https://coloradoracetiming.com/event/miles-for-madison-5k/
END:VEVENT
BEGIN:VEVENT
DTSTART;TZID=America/Denver:20260919T080000
DTEND;TZID=America/Denver:20260919T170000
DTSTAMP:20260423T132753
CREATED:20220906T203220Z
LAST-MODIFIED:20260114T160516Z
UID:6627-1789804800-1789837200@coloradoracetiming.com
SUMMARY:Gummball 5K
DESCRIPTION:
URL:https://coloradoracetiming.com/event/gummball-5k/
END:VEVENT
BEGIN:VEVENT
DTSTART;TZID=America/Denver:20260920T080000
DTEND;TZID=America/Denver:20260920T110000
DTSTAMP:20260423T132753
CREATED:20220110T185750Z
LAST-MODIFIED:20260114T154652Z
UID:5026-1789891200-1789902000@coloradoracetiming.com
SUMMARY:Golden Gallop 5K & 10K
DESCRIPTION:
URL:https://coloradoracetiming.com/event/golden-gallop/
END:VEVENT
BEGIN:VEVENT
DTSTART;TZID=America/Denver:20260923T180000
DTEND;TZID=America/Denver:20260923T200000
DTSTAMP:20260423T132753
CREATED:20220106T171203Z
LAST-MODIFIED:20260114T155851Z
UID:5012-1790186400-1790193600@coloradoracetiming.com
SUMMARY:Lakewood Trail Race 4
DESCRIPTION:
URL:https://coloradoracetiming.com/event/lakewood-trail-race-4/
END:VEVENT
END:VCALENDAR