BEGIN:VCALENDAR
VERSION:2.0
PRODID:-//Colorado Race Timing - ECPv6.15.20//NONSGML v1.0//EN
CALSCALE:GREGORIAN
METHOD:PUBLISH
X-WR-CALNAME:Colorado Race Timing
X-ORIGINAL-URL:https://coloradoracetiming.com
X-WR-CALDESC:Events for Colorado Race Timing
REFRESH-INTERVAL;VALUE=DURATION:PT1H
X-Robots-Tag:noindex
X-PUBLISHED-TTL:PT1H
BEGIN:VTIMEZONE
TZID:America/Denver
BEGIN:DAYLIGHT
TZOFFSETFROM:-0700
TZOFFSETTO:-0600
TZNAME:MDT
DTSTART:20250309T090000
END:DAYLIGHT
BEGIN:STANDARD
TZOFFSETFROM:-0600
TZOFFSETTO:-0700
TZNAME:MST
DTSTART:20251102T080000
END:STANDARD
BEGIN:DAYLIGHT
TZOFFSETFROM:-0700
TZOFFSETTO:-0600
TZNAME:MDT
DTSTART:20260308T090000
END:DAYLIGHT
BEGIN:STANDARD
TZOFFSETFROM:-0600
TZOFFSETTO:-0700
TZNAME:MST
DTSTART:20261101T080000
END:STANDARD
BEGIN:DAYLIGHT
TZOFFSETFROM:-0700
TZOFFSETTO:-0600
TZNAME:MDT
DTSTART:20270314T090000
END:DAYLIGHT
BEGIN:STANDARD
TZOFFSETFROM:-0600
TZOFFSETTO:-0700
TZNAME:MST
DTSTART:20271107T080000
END:STANDARD
END:VTIMEZONE
BEGIN:VEVENT
DTSTART;TZID=America/Denver:20260411T080000
DTEND;TZID=America/Denver:20260411T170000
DTSTAMP:20260423T150340
CREATED:20230113T213528Z
LAST-MODIFIED:20260114T153804Z
UID:7431-1775894400-1775926800@coloradoracetiming.com
SUMMARY:Rockin on the River 5K
DESCRIPTION:
URL:https://coloradoracetiming.com/event/rockin-on-the-river-5k-2/
END:VEVENT
BEGIN:VEVENT
DTSTART;TZID=America/Denver:20260417T080000
DTEND;TZID=America/Denver:20260417T170000
DTSTAMP:20260423T150340
CREATED:20260306T211545Z
LAST-MODIFIED:20260306T211545Z
UID:10554-1776412800-1776445200@coloradoracetiming.com
SUMMARY:Cherry Creek Academy
DESCRIPTION:
URL:https://coloradoracetiming.com/event/cherry-creek-academy/
END:VEVENT
BEGIN:VEVENT
DTSTART;TZID=America/Denver:20260418T080000
DTEND;TZID=America/Denver:20260418T170000
DTSTAMP:20260423T150340
CREATED:20240119T203800Z
LAST-MODIFIED:20260216T193710Z
UID:8614-1776499200-1776531600@coloradoracetiming.com
SUMMARY:Polar Plunge 5K - Ft. Collins
DESCRIPTION:
URL:https://coloradoracetiming.com/event/polar-plunge-5k-ft-collins/
END:VEVENT
BEGIN:VEVENT
DTSTART;TZID=America/Denver:20260425T080000
DTEND;TZID=America/Denver:20260425T170000
DTSTAMP:20260423T150340
CREATED:20240222T204852Z
LAST-MODIFIED:20260114T154157Z
UID:9946-1777104000-1777136400@coloradoracetiming.com
SUMMARY:Alpine Autism Center 17th Annual "Run for the One" 5k Walk/Run
DESCRIPTION:
URL:https://coloradoracetiming.com/event/sign-in-to-my-account-sign-in-alpine-autism-center-17th-annual-run-for-the-one-5k-walk-run/
END:VEVENT
BEGIN:VEVENT
DTSTART;TZID=America/Denver:20260502T080000
DTEND;TZID=America/Denver:20260502T120000
DTSTAMP:20260423T150340
CREATED:20220105T223409Z
LAST-MODIFIED:20260114T154237Z
UID:4989-1777708800-1777723200@coloradoracetiming.com
SUMMARY:High Line Canal 5K & 10K
DESCRIPTION:
URL:https://coloradoracetiming.com/event/high-line-canal-5k-10k-2/
END:VEVENT
BEGIN:VEVENT
DTSTART;TZID=America/Denver:20260508T080000
DTEND;TZID=America/Denver:20260508T170000
DTSTAMP:20260423T150340
CREATED:20230306T204939Z
LAST-MODIFIED:20260114T160423Z
UID:7775-1778227200-1778259600@coloradoracetiming.com
SUMMARY:Mitchell Miler
DESCRIPTION:
URL:https://coloradoracetiming.com/event/mitchell-miler/
END:VEVENT
BEGIN:VEVENT
DTSTART;TZID=America/Denver:20260509T080000
DTEND;TZID=America/Denver:20260509T110000
DTSTAMP:20260423T150340
CREATED:20220105T221930Z
LAST-MODIFIED:20260114T153134Z
UID:4977-1778313600-1778324400@coloradoracetiming.com
SUMMARY:HRCA Mother's Day 5K
DESCRIPTION:
URL:https://coloradoracetiming.com/event/hrca-mothers-day-5k-2/
END:VEVENT
BEGIN:VEVENT
DTSTART;TZID=America/Denver:20260509T080000
DTEND;TZID=America/Denver:20260509T170000
DTSTAMP:20260423T150340
CREATED:20250107T160547Z
LAST-MODIFIED:20260114T153207Z
UID:10083-1778313600-1778346000@coloradoracetiming.com
SUMMARY:Miles over the Meadow Mothers Day 5K
DESCRIPTION:
URL:https://coloradoracetiming.com/event/miles-over-the-meadow-mothers-day-5k/
END:VEVENT
BEGIN:VEVENT
DTSTART;TZID=America/Denver:20260510T080000
DTEND;TZID=America/Denver:20260510T170000
DTSTAMP:20260423T150340
CREATED:20220105T221651Z
LAST-MODIFIED:20260114T153053Z
UID:4973-1778400000-1778432400@coloradoracetiming.com
SUMMARY:Denver Mothers Day 5K
DESCRIPTION:www.denvermothersday5k.com
URL:https://coloradoracetiming.com/event/denver-mothers-day-5k-2/
END:VEVENT
BEGIN:VEVENT
DTSTART;TZID=America/Denver:20260515T080000
DTEND;TZID=America/Denver:20260515T170000
DTSTAMP:20260423T150340
CREATED:20250108T220232Z
LAST-MODIFIED:20260116T220906Z
UID:10093-1778832000-1778864400@coloradoracetiming.com
SUMMARY:HMS Richards K-8 school 5K
DESCRIPTION:
URL:https://coloradoracetiming.com/event/hms-richards-k-8-school-5k/
END:VEVENT
BEGIN:VEVENT
DTSTART;TZID=America/Denver:20260516T080000
DTEND;TZID=America/Denver:20260516T120000
DTSTAMP:20260423T150340
CREATED:20230310T155735Z
LAST-MODIFIED:20260126T202842Z
UID:7790-1778918400-1778932800@coloradoracetiming.com
SUMMARY:Gluten Free Gallop 5K
DESCRIPTION:
URL:https://coloradoracetiming.com/event/gluten-free-gallop-5k/
END:VEVENT
BEGIN:VEVENT
DTSTART;TZID=America/Denver:20260517T080000
DTEND;TZID=America/Denver:20260517T170000
DTSTAMP:20260423T150340
CREATED:20220105T221624Z
LAST-MODIFIED:20260116T221813Z
UID:4971-1779004800-1779037200@coloradoracetiming.com
SUMMARY:Miles for Smiles 5K
DESCRIPTION:
URL:https://coloradoracetiming.com/event/miles-for-smiles-5k/
END:VEVENT
BEGIN:VEVENT
DTSTART;TZID=America/Denver:20260613T080000
DTEND;TZID=America/Denver:20260613T110000
DTSTAMP:20260423T150340
CREATED:20240301T191935Z
LAST-MODIFIED:20260114T160045Z
UID:9957-1781337600-1781348400@coloradoracetiming.com
SUMMARY:Jodis Race 5K
DESCRIPTION:
URL:https://coloradoracetiming.com/event/jodis-race-5k/
END:VEVENT
BEGIN:VEVENT
DTSTART;TZID=America/Denver:20260613T080000
DTEND;TZID=America/Denver:20260613T170000
DTSTAMP:20260423T150340
CREATED:20220519T212703Z
LAST-MODIFIED:20260114T160156Z
UID:5493-1781337600-1781370000@coloradoracetiming.com
SUMMARY:Denver Melanoma 5K
DESCRIPTION:
URL:https://coloradoracetiming.com/event/melanoma-5k/
END:VEVENT
BEGIN:VEVENT
DTSTART;TZID=America/Denver:20260620T080000
DTEND;TZID=America/Denver:20260620T120000
DTSTAMP:20260423T150340
CREATED:20220106T054321Z
LAST-MODIFIED:20260126T202756Z
UID:4993-1781942400-1781956800@coloradoracetiming.com
SUMMARY:Sierra's Race 5K
DESCRIPTION:
URL:https://coloradoracetiming.com/event/sierras-race-5k/
END:VEVENT
BEGIN:VEVENT
DTSTART;TZID=America/Denver:20260620T080000
DTEND;TZID=America/Denver:20260620T170000
DTSTAMP:20260423T150340
CREATED:20250107T160620Z
LAST-MODIFIED:20260114T154320Z
UID:10085-1781942400-1781974800@coloradoracetiming.com
SUMMARY:Dash Across the Dam Father's Day 5K
DESCRIPTION:
URL:https://coloradoracetiming.com/event/dash-across-the-dam-fathers-day-5k/
END:VEVENT
BEGIN:VEVENT
DTSTART;TZID=America/Denver:20260627T080000
DTEND;TZID=America/Denver:20260627T170000
DTSTAMP:20260423T150340
CREATED:20230113T214752Z
LAST-MODIFIED:20260114T154350Z
UID:7435-1782547200-1782579600@coloradoracetiming.com
SUMMARY:Before the Fourth 5K
DESCRIPTION:
URL:https://coloradoracetiming.com/event/before-the-fourth-5k/
END:VEVENT
BEGIN:VEVENT
DTSTART;TZID=America/Denver:20260627T080000
DTEND;TZID=America/Denver:20260627T170000
DTSTAMP:20260423T150340
CREATED:20230306T202033Z
LAST-MODIFIED:20260130T151308Z
UID:7771-1782547200-1782579600@coloradoracetiming.com
SUMMARY:Denver Pride 5K
DESCRIPTION:
URL:https://coloradoracetiming.com/event/pride-5k-2/
END:VEVENT
BEGIN:VEVENT
DTSTART;TZID=America/Denver:20260704T080000
DTEND;TZID=America/Denver:20260704T100000
DTSTAMP:20260423T150340
CREATED:20220105T222005Z
LAST-MODIFIED:20260114T153243Z
UID:4979-1783152000-1783159200@coloradoracetiming.com
SUMMARY:Independence Day 5K
DESCRIPTION:
URL:https://coloradoracetiming.com/event/independence-day-5k-2/
END:VEVENT
BEGIN:VEVENT
DTSTART;TZID=America/Denver:20260704T080000
DTEND;TZID=America/Denver:20260704T110000
DTSTAMP:20260423T150340
CREATED:20220126T175427Z
LAST-MODIFIED:20260114T153313Z
UID:5068-1783152000-1783162800@coloradoracetiming.com
SUMMARY:Palmer Lake Fourth of July Run
DESCRIPTION:
URL:https://coloradoracetiming.com/event/palmer-lake-fourth-of-july-run/
END:VEVENT
BEGIN:VEVENT
DTSTART;TZID=America/Denver:20260711T080000
DTEND;TZID=America/Denver:20260711T120000
DTSTAMP:20260423T150340
CREATED:20220105T221524Z
LAST-MODIFIED:20260116T221849Z
UID:4969-1783756800-1783771200@coloradoracetiming.com
SUMMARY:Stepping Stone 5K
DESCRIPTION:
URL:https://coloradoracetiming.com/event/stepping-stone-5k-2/
END:VEVENT
BEGIN:VEVENT
DTSTART;TZID=America/Denver:20260711T080000
DTEND;TZID=America/Denver:20260711T170000
DTSTAMP:20260423T150340
CREATED:20260116T220457Z
LAST-MODIFIED:20260116T220457Z
UID:10545-1783756800-1783789200@coloradoracetiming.com
SUMMARY:Rita Run
DESCRIPTION:
URL:https://coloradoracetiming.com/event/rita-run/
END:VEVENT
BEGIN:VEVENT
DTSTART;TZID=America/Denver:20260718T080000
DTEND;TZID=America/Denver:20260718T170000
DTSTAMP:20260423T150340
CREATED:20220105T221719Z
LAST-MODIFIED:20260205T162447Z
UID:4975-1784361600-1784394000@coloradoracetiming.com
SUMMARY:Heritage Eagles 5K
DESCRIPTION:www.heritageeagles5k.com
URL:https://coloradoracetiming.com/event/heritage-eagles-5k-2/
END:VEVENT
BEGIN:VEVENT
DTSTART;TZID=America/Denver:20260725T080000
DTEND;TZID=America/Denver:20260725T170000
DTSTAMP:20260423T150340
CREATED:20220107T172004Z
LAST-MODIFIED:20260202T194019Z
UID:5021-1784966400-1784998800@coloradoracetiming.com
SUMMARY:Aspen Valley Marathon
DESCRIPTION:
URL:https://coloradoracetiming.com/event/aspen-valley-marathon-2/
END:VEVENT
BEGIN:VEVENT
DTSTART;TZID=America/Denver:20260726T080000
DTEND;TZID=America/Denver:20260726T120000
DTSTAMP:20260423T150340
CREATED:20220110T191841Z
LAST-MODIFIED:20260114T154422Z
UID:5030-1785052800-1785067200@coloradoracetiming.com
SUMMARY:Spirit of the West 5K
DESCRIPTION:https://runsignup.com/Race/CO/Golden/SpiritoftheWest5K
URL:https://coloradoracetiming.com/event/spirit-of-the-west-5k-2/
END:VEVENT
BEGIN:VEVENT
DTSTART;TZID=America/Denver:20260801T080000
DTEND;TZID=America/Denver:20260801T110000
DTSTAMP:20260423T150340
CREATED:20220505T220640Z
LAST-MODIFIED:20260114T160119Z
UID:5374-1785571200-1785582000@coloradoracetiming.com
SUMMARY:Run for Ring 5K
DESCRIPTION:
URL:https://coloradoracetiming.com/event/run-for-ring-5k/
END:VEVENT
BEGIN:VEVENT
DTSTART;TZID=America/Denver:20260808T080000
DTEND;TZID=America/Denver:20260808T170000
DTSTAMP:20260423T150340
CREATED:20220708T222009Z
LAST-MODIFIED:20260211T151007Z
UID:6050-1786176000-1786208400@coloradoracetiming.com
SUMMARY:Arapahoe Warrior 5K
DESCRIPTION:www.warrior5k.com
URL:https://coloradoracetiming.com/event/arapahoe-warrior-5k-2/
END:VEVENT
BEGIN:VEVENT
DTSTART;TZID=America/Denver:20260816T080000
DTEND;TZID=America/Denver:20260816T170000
DTSTAMP:20260423T150340
CREATED:20220411T183558Z
LAST-MODIFIED:20260114T160809Z
UID:5240-1786867200-1786899600@coloradoracetiming.com
SUMMARY:Race for Research 5K
DESCRIPTION:
URL:https://coloradoracetiming.com/event/race-for-research-5k/
END:VEVENT
BEGIN:VEVENT
DTSTART;TZID=America/Denver:20260821T080000
DTEND;TZID=America/Denver:20260821T170000
DTSTAMP:20260423T150340
CREATED:20220523T152335Z
LAST-MODIFIED:20260310T180739Z
UID:5524-1787299200-1787331600@coloradoracetiming.com
SUMMARY:Jack N Jill XC
DESCRIPTION:
URL:https://coloradoracetiming.com/event/jack-n-jill-xc-2/
END:VEVENT
BEGIN:VEVENT
DTSTART;TZID=America/Denver:20260822T080000
DTEND;TZID=America/Denver:20260822T170000
DTSTAMP:20260423T150340
CREATED:20240111T153430Z
LAST-MODIFIED:20260126T202410Z
UID:8574-1787385600-1787418000@coloradoracetiming.com
SUMMARY:The Ram Run 5K
DESCRIPTION:
URL:https://coloradoracetiming.com/event/the-ram-run-5k/
END:VEVENT
END:VCALENDAR