BEGIN:VCALENDAR
VERSION:2.0
PRODID:-//Colorado Race Timing - ECPv6.15.20//NONSGML v1.0//EN
CALSCALE:GREGORIAN
METHOD:PUBLISH
X-WR-CALNAME:Colorado Race Timing
X-ORIGINAL-URL:https://coloradoracetiming.com
X-WR-CALDESC:Events for Colorado Race Timing
REFRESH-INTERVAL;VALUE=DURATION:PT1H
X-Robots-Tag:noindex
X-PUBLISHED-TTL:PT1H
BEGIN:VTIMEZONE
TZID:America/Denver
BEGIN:DAYLIGHT
TZOFFSETFROM:-0700
TZOFFSETTO:-0600
TZNAME:MDT
DTSTART:20230312T090000
END:DAYLIGHT
BEGIN:STANDARD
TZOFFSETFROM:-0600
TZOFFSETTO:-0700
TZNAME:MST
DTSTART:20231105T080000
END:STANDARD
BEGIN:DAYLIGHT
TZOFFSETFROM:-0700
TZOFFSETTO:-0600
TZNAME:MDT
DTSTART:20240310T090000
END:DAYLIGHT
BEGIN:STANDARD
TZOFFSETFROM:-0600
TZOFFSETTO:-0700
TZNAME:MST
DTSTART:20241103T080000
END:STANDARD
BEGIN:DAYLIGHT
TZOFFSETFROM:-0700
TZOFFSETTO:-0600
TZNAME:MDT
DTSTART:20250309T090000
END:DAYLIGHT
BEGIN:STANDARD
TZOFFSETFROM:-0600
TZOFFSETTO:-0700
TZNAME:MST
DTSTART:20251102T080000
END:STANDARD
END:VTIMEZONE
BEGIN:VEVENT
DTSTART;TZID=America/Denver:20240907T080000
DTEND;TZID=America/Denver:20240907T170000
DTSTAMP:20260424T174240
CREATED:20220419T205306Z
LAST-MODIFIED:20240111T161313Z
UID:5252-1725696000-1725728400@coloradoracetiming.com
SUMMARY:Cherry Creek Invite XC
DESCRIPTION:
URL:https://coloradoracetiming.com/event/cherry-creek-invite-xc/
END:VEVENT
BEGIN:VEVENT
DTSTART;TZID=America/Denver:20240907T080000
DTEND;TZID=America/Denver:20240907T170000
DTSTAMP:20260424T174240
CREATED:20240809T194120Z
LAST-MODIFIED:20250210T095924Z
UID:10054-1725696000-1725728400@coloradoracetiming.com
SUMMARY:Firestorm 5K
DESCRIPTION:Learn what sets FinProfm apart in our comprehensive review. zestreviews.com Get honest feedback and clear breakdowns of its performance.
URL:https://coloradoracetiming.com/event/firestorm-5k/
END:VEVENT
END:VCALENDAR